BEGIN:VCALENDAR
PRODID: -//CFLIB.ORG//iCalUS()//EN
VERSION:2.0
METHOD:REQUEST
BEGIN:VTIMEZONE
BEGIN:STANDARD
DTSTART:20061101T020000
RRULE:FREQ=YEARLY;INTERVAL=1;BYDAY=1SU;BYMONTH=11
TZOFFSETFROM:-0400
TZOFFSETTO:-0500
TZNAME:Standard Time
END:STANDARD
BEGIN:DAYLIGHT
DTSTART:20060301T020000
RRULE:FREQ=YEARLY;INTERVAL=1;BYDAY=2SU;BYMONTH=3
TZOFFSETFROM:-0500
TZOFFSETTO:-0400
TZNAME:Daylight Savings Time
END:DAYLIGHT
END:VTIMEZONE
BEGIN:VEVENT
UID:1582728526601.CFLIB.ORG
ORGANIZER;CN=:MAILTO:
DTSTAMP:20200227T014846
DTSTART;TZID=Eastern Time:20200228T124500
DTEND;TZID=Eastern Time:20200228T131500
SUMMARY:PETER CALLISS REAL ESTATE - OFI/OPEN HOME - 9 BRODIE STREET, WHYALLA NORRIE, 5608
LOCATION:9 BRODIE STREET, WHYALLA NORRIE, 5608
DESCRIPTION:OFI/OPEN HOME - 9 BRODIE STREET, WHYALLA NORRIE, 5608\n\nFriday 12:45PM-1:15PM\n\nClick the link for full listing information: http://petercalliss.com.au?/property/3387595
PRIORITY:1
TRANSP:OPAQUE
CLASS:PUBLIC
BEGIN:VALARM
TRIGGER:-PT30M
ACTION:DISPLAY
DESCRIPTION:Reminder
END:VALARM
END:VEVENT
END:VCALENDAR 